BEGIN:VCALENDAR
VERSION:2.0
PRODID:-//El Dorado Disc Sports - ECPv6.15.20//NONSGML v1.0//EN
CALSCALE:GREGORIAN
METHOD:PUBLISH
X-ORIGINAL-URL:https://www.eddiscsports.org
X-WR-CALDESC:Events for El Dorado Disc Sports
REFRESH-INTERVAL;VALUE=DURATION:PT1H
X-Robots-Tag:noindex
X-PUBLISHED-TTL:PT1H
BEGIN:VTIMEZONE
TZID:America/Los_Angeles
BEGIN:DAYLIGHT
TZOFFSETFROM:-0800
TZOFFSETTO:-0700
TZNAME:PDT
DTSTART:20170312T100000
END:DAYLIGHT
BEGIN:STANDARD
TZOFFSETFROM:-0700
TZOFFSETTO:-0800
TZNAME:PST
DTSTART:20171105T090000
END:STANDARD
BEGIN:DAYLIGHT
TZOFFSETFROM:-0800
TZOFFSETTO:-0700
TZNAME:PDT
DTSTART:20180311T100000
END:DAYLIGHT
BEGIN:STANDARD
TZOFFSETFROM:-0700
TZOFFSETTO:-0800
TZNAME:PST
DTSTART:20181104T090000
END:STANDARD
BEGIN:DAYLIGHT
TZOFFSETFROM:-0800
TZOFFSETTO:-0700
TZNAME:PDT
DTSTART:20190310T100000
END:DAYLIGHT
BEGIN:STANDARD
TZOFFSETFROM:-0700
TZOFFSETTO:-0800
TZNAME:PST
DTSTART:20191103T090000
END:STANDARD
BEGIN:DAYLIGHT
TZOFFSETFROM:-0800
TZOFFSETTO:-0700
TZNAME:PDT
DTSTART:20200308T100000
END:DAYLIGHT
BEGIN:STANDARD
TZOFFSETFROM:-0700
TZOFFSETTO:-0800
TZNAME:PST
DTSTART:20201101T090000
END:STANDARD
END:VTIMEZONE
BEGIN:VEVENT
DTSTART;VALUE=DATE:20190912
DTEND;VALUE=DATE:20190916
DTSTAMP:20260423T022740
CREATED:20190609T175948Z
LAST-MODIFIED:20190609T175948Z
UID:9142-1568246400-1568591999@www.eddiscsports.org
SUMMARY:Green Mountain Championship
DESCRIPTION:
URL:https://www.eddiscsports.org/event/green-mountain-championship/
LOCATION:Jeffersonville\, VT\, Jeffersonville\, VT\, United States
CATEGORIES:DGPT Event,A - Tier
END:VEVENT
BEGIN:VEVENT
DTSTART;VALUE=DATE:20190829
DTEND;VALUE=DATE:20190902
DTSTAMP:20260423T022740
CREATED:20190609T154731Z
LAST-MODIFIED:20190609T154731Z
UID:9137-1567036800-1567382399@www.eddiscsports.org
SUMMARY:MVP Open at Maple Hill
DESCRIPTION:
URL:https://www.eddiscsports.org/event/mvp-open-at-maple-hill/
LOCATION:Leicester\, MA\, Leicester\, MA\, United States
CATEGORIES:DGPT Event,A - Tier
END:VEVENT
BEGIN:VEVENT
DTSTART;VALUE=DATE:20190726
DTEND;VALUE=DATE:20190729
DTSTAMP:20260423T022740
CREATED:20190609T153517Z
LAST-MODIFIED:20190609T153517Z
UID:9131-1564099200-1564358399@www.eddiscsports.org
SUMMARY:Idlewild Open
DESCRIPTION:
URL:https://www.eddiscsports.org/event/idlewild-open/
LOCATION:Burlington\, KY\, Burlington\, KY\, United States
CATEGORIES:DGPT Event,A - Tier
END:VEVENT
BEGIN:VEVENT
DTSTART;VALUE=DATE:20190705
DTEND;VALUE=DATE:20190708
DTSTAMP:20260423T022740
CREATED:20190609T152107Z
LAST-MODIFIED:20190609T152107Z
UID:9121-1562284800-1562543999@www.eddiscsports.org
SUMMARY:Great Lakes Open
DESCRIPTION:
URL:https://www.eddiscsports.org/event/great-lakes-open/
LOCATION:Milford\, MI\, Milford\, MI\, United States
CATEGORIES:DGPT Event,A - Tier
END:VEVENT
BEGIN:VEVENT
DTSTART;VALUE=DATE:20190621
DTEND;VALUE=DATE:20190624
DTSTAMP:20260423T022740
CREATED:20190521T222621Z
LAST-MODIFIED:20190521T222621Z
UID:8891-1561075200-1561334399@www.eddiscsports.org
SUMMARY:Ledgestone Open
DESCRIPTION:
URL:https://www.eddiscsports.org/event/ledgestone-open/
LOCATION:Eureka\, IL\, Eureka\, IL\, United States
CATEGORIES:DGPT Event,A - Tier
END:VEVENT
BEGIN:VEVENT
DTSTART;VALUE=DATE:20190525
DTEND;VALUE=DATE:20190528
DTSTAMP:20260423T022740
CREATED:20190501T212837Z
LAST-MODIFIED:20190501T215543Z
UID:8508-1558742400-1559001599@www.eddiscsports.org
SUMMARY:2019 Portland Open
DESCRIPTION:
URL:https://www.eddiscsports.org/event/2019-portland-open/
LOCATION:Portland\, OR\, Portland\, CA\, United States
CATEGORIES:DGPT Event,A - Tier
END:VEVENT
BEGIN:VEVENT
DTSTART;VALUE=DATE:20190510
DTEND;VALUE=DATE:20190513
DTSTAMP:20260423T022740
CREATED:20190501T212309Z
LAST-MODIFIED:20190501T212309Z
UID:8503-1557446400-1557705599@www.eddiscsports.org
SUMMARY:San Francisco Open
DESCRIPTION:
URL:https://www.eddiscsports.org/event/san-francisco-open/
LOCATION:San Francisco\, CA\, San Francisco\, CA\, United States
CATEGORIES:DGPT Event,A - Tier
END:VEVENT
BEGIN:VEVENT
DTSTART;VALUE=DATE:20180824
DTEND;VALUE=DATE:20180827
DTSTAMP:20260423T022740
CREATED:20171106T230206Z
LAST-MODIFIED:20171106T230316Z
UID:1921-1535068800-1535327999@www.eddiscsports.org
SUMMARY:Vibram Open - DGPT
DESCRIPTION:
URL:https://www.eddiscsports.org/event/vibram-open-dgpt/
LOCATION:Leicester\, MA\, Leicester\, MA\, United States
CATEGORIES:DGPT Event
END:VEVENT
BEGIN:VEVENT
DTSTART;VALUE=DATE:20180809
DTEND;VALUE=DATE:20180813
DTSTAMP:20260423T022740
CREATED:20171106T224713Z
LAST-MODIFIED:20171106T224713Z
UID:1913-1533772800-1534118399@www.eddiscsports.org
SUMMARY:Ledgestone Open - DGPT
DESCRIPTION:
URL:https://www.eddiscsports.org/event/ledgestone-open-dgpt/
LOCATION:Peoria\, Il\, Peoria\, IL\, United States
CATEGORIES:DGPT Event
END:VEVENT
BEGIN:VEVENT
DTSTART;VALUE=DATE:20180720
DTEND;VALUE=DATE:20180723
DTSTAMP:20260423T022740
CREATED:20171106T224302Z
LAST-MODIFIED:20171106T224302Z
UID:1907-1532044800-1532303999@www.eddiscsports.org
SUMMARY:Idlewild Open - DGPT
DESCRIPTION:
URL:https://www.eddiscsports.org/event/idlewild-open-dgpt/
LOCATION:Burlington\, KY\, Burlington\, KY\, United States
CATEGORIES:DGPT Event
END:VEVENT
BEGIN:VEVENT
DTSTART;VALUE=DATE:20180706
DTEND;VALUE=DATE:20180709
DTSTAMP:20260423T022740
CREATED:20171106T223142Z
LAST-MODIFIED:20171106T223142Z
UID:1899-1530835200-1531094399@www.eddiscsports.org
SUMMARY:Great Lakes Open - DGPT
DESCRIPTION:
URL:https://www.eddiscsports.org/event/great-lakes-open-dgpt/
LOCATION:Milford\, MI\, Milford\, MI\, United States
CATEGORIES:DGPT Event
END:VEVENT
BEGIN:VEVENT
DTSTART;VALUE=DATE:20180622
DTEND;VALUE=DATE:20180625
DTSTAMP:20260423T022740
CREATED:20171106T222441Z
LAST-MODIFIED:20171106T222441Z
UID:1896-1529625600-1529884799@www.eddiscsports.org
SUMMARY:Utah Open - DGPT
DESCRIPTION:
URL:https://www.eddiscsports.org/event/utah-open-dgpt/
LOCATION:Marriott-Slaterville\, UT\, Marriott-Slaterville\, UT\, United States
CATEGORIES:DGPT Event
END:VEVENT
BEGIN:VEVENT
DTSTART;VALUE=DATE:20180525
DTEND;VALUE=DATE:20180528
DTSTAMP:20260423T022740
CREATED:20171106T221014Z
LAST-MODIFIED:20171106T221208Z
UID:1885-1527206400-1527465599@www.eddiscsports.org
SUMMARY:San Francisco Open - DGPT Event
DESCRIPTION:
URL:https://www.eddiscsports.org/event/san-francisco-open-dgpt-event/
LOCATION:San Francisco\, CA\, San Francsico\, CA\, United States
CATEGORIES:DGPT Event
END:VEVENT
BEGIN:VEVENT
DTSTART;TZID=America/Los_Angeles:20180406T080000
DTEND;TZID=America/Los_Angeles:20180408T170000
DTSTAMP:20260423T022740
CREATED:20171106T212012Z
LAST-MODIFIED:20171106T213058Z
UID:1859-1523001600-1523206800@www.eddiscsports.org
SUMMARY:Jonesboro Open - DGPT Event
DESCRIPTION:
URL:https://www.eddiscsports.org/event/jonesboro-open-dgpt-event/
LOCATION:Jonesboro\, AR\, Jonesboro\, AR\, United States
CATEGORIES:DGPT Event
END:VEVENT
BEGIN:VEVENT
DTSTART;VALUE=DATE:20180316
DTEND;VALUE=DATE:20180319
DTSTAMP:20260423T022740
CREATED:20171106T211322Z
LAST-MODIFIED:20171106T212634Z
UID:1851-1521158400-1521417599@www.eddiscsports.org
SUMMARY:Waco Charity Open - DGPT Event
DESCRIPTION:
URL:https://www.eddiscsports.org/event/waco-charity-open-dgpt-event/
LOCATION:Waco\, TX\, Waco\, TX\, United States
CATEGORIES:DGPT Event
END:VEVENT
BEGIN:VEVENT
DTSTART;VALUE=DATE:20180228
DTEND;VALUE=DATE:20180305
DTSTAMP:20260423T022740
CREATED:20171106T210738Z
LAST-MODIFIED:20171106T212449Z
UID:1847-1519776000-1520207999@www.eddiscsports.org
SUMMARY:Memorial Championships - DGPT Event
DESCRIPTION:
URL:https://www.eddiscsports.org/event/memorial-championships-dgpt-event/
LOCATION:Scottsdale\, AZ\, Scottsdale\, AZ\, United States
CATEGORIES:DGPT Event
END:VEVENT
END:VCALENDAR