BEGIN:VCALENDAR
VERSION:2.0
PRODID:-//El Dorado Disc Sports - ECPv6.15.20//NONSGML v1.0//EN
CALSCALE:GREGORIAN
METHOD:PUBLISH
X-WR-CALNAME:El Dorado Disc Sports
X-ORIGINAL-URL:https://www.eddiscsports.org
X-WR-CALDESC:Events for El Dorado Disc Sports
REFRESH-INTERVAL;VALUE=DURATION:PT1H
X-Robots-Tag:noindex
X-PUBLISHED-TTL:PT1H
BEGIN:VTIMEZONE
TZID:America/Los_Angeles
BEGIN:DAYLIGHT
TZOFFSETFROM:-0800
TZOFFSETTO:-0700
TZNAME:PDT
DTSTART:20170312T100000
END:DAYLIGHT
BEGIN:STANDARD
TZOFFSETFROM:-0700
TZOFFSETTO:-0800
TZNAME:PST
DTSTART:20171105T090000
END:STANDARD
BEGIN:DAYLIGHT
TZOFFSETFROM:-0800
TZOFFSETTO:-0700
TZNAME:PDT
DTSTART:20180311T100000
END:DAYLIGHT
BEGIN:STANDARD
TZOFFSETFROM:-0700
TZOFFSETTO:-0800
TZNAME:PST
DTSTART:20181104T090000
END:STANDARD
BEGIN:DAYLIGHT
TZOFFSETFROM:-0800
TZOFFSETTO:-0700
TZNAME:PDT
DTSTART:20190310T100000
END:DAYLIGHT
BEGIN:STANDARD
TZOFFSETFROM:-0700
TZOFFSETTO:-0800
TZNAME:PST
DTSTART:20191103T090000
END:STANDARD
END:VTIMEZONE
BEGIN:VEVENT
DTSTART;VALUE=DATE:20181003
DTEND;VALUE=DATE:20181007
DTSTAMP:20260423T033556
CREATED:20171106T231530Z
LAST-MODIFIED:20171106T231554Z
UID:1936-1538524800-1538870399@www.eddiscsports.org
SUMMARY:US Disc Golf Championships - Major
DESCRIPTION:
URL:https://www.eddiscsports.org/event/us-disc-golf-championships-major/
LOCATION:Rock Hill\, SC\, Rock Hill\, SC\, United States
CATEGORIES:PDGA Major Event,DGWT Event
END:VEVENT
BEGIN:VEVENT
DTSTART;VALUE=DATE:20180712
DTEND;VALUE=DATE:20180716
DTSTAMP:20260423T033556
CREATED:20171106T223913Z
LAST-MODIFIED:20171106T223913Z
UID:1904-1531353600-1531699199@www.eddiscsports.org
SUMMARY:Konopiště Open - Major
DESCRIPTION:
URL:https://www.eddiscsports.org/event/konopiste-open-major/
LOCATION:Benesov\, Czech Republic\, Benesov\, Czech Republic
CATEGORIES:PDGA Major Event,DGWT Event
END:VEVENT
BEGIN:VEVENT
DTSTART;VALUE=DATE:20180601
DTEND;VALUE=DATE:20180604
DTSTAMP:20260423T033556
CREATED:20171106T221705Z
LAST-MODIFIED:20171106T221705Z
UID:1890-1527811200-1528070399@www.eddiscsports.org
SUMMARY:Tallinn Open - DGWT Event
DESCRIPTION:
URL:https://www.eddiscsports.org/event/tallinn-open-dgwt-event/
LOCATION:Tallinn\, Estonia\, Tallinn\, Estonia
CATEGORIES:DGWT Event
END:VEVENT
END:VCALENDAR