BEGIN:VCALENDAR
VERSION:2.0
PRODID:-//El Dorado Disc Sports - ECPv6.15.20//NONSGML v1.0//EN
CALSCALE:GREGORIAN
METHOD:PUBLISH
X-ORIGINAL-URL:https://www.eddiscsports.org
X-WR-CALDESC:Events for El Dorado Disc Sports
REFRESH-INTERVAL;VALUE=DURATION:PT1H
X-Robots-Tag:noindex
X-PUBLISHED-TTL:PT1H
BEGIN:VTIMEZONE
TZID:America/Los_Angeles
BEGIN:DAYLIGHT
TZOFFSETFROM:-0800
TZOFFSETTO:-0700
TZNAME:PDT
DTSTART:20200308T100000
END:DAYLIGHT
BEGIN:STANDARD
TZOFFSETFROM:-0700
TZOFFSETTO:-0800
TZNAME:PST
DTSTART:20201101T090000
END:STANDARD
BEGIN:DAYLIGHT
TZOFFSETFROM:-0800
TZOFFSETTO:-0700
TZNAME:PDT
DTSTART:20210314T100000
END:DAYLIGHT
BEGIN:STANDARD
TZOFFSETFROM:-0700
TZOFFSETTO:-0800
TZNAME:PST
DTSTART:20211107T090000
END:STANDARD
BEGIN:DAYLIGHT
TZOFFSETFROM:-0800
TZOFFSETTO:-0700
TZNAME:PDT
DTSTART:20220313T100000
END:DAYLIGHT
BEGIN:STANDARD
TZOFFSETFROM:-0700
TZOFFSETTO:-0800
TZNAME:PST
DTSTART:20221106T090000
END:STANDARD
END:VTIMEZONE
BEGIN:VEVENT
DTSTART;TZID=America/Los_Angeles:20210711T110000
DTEND;TZID=America/Los_Angeles:20210711T140000
DTSTAMP:20260423T003624
CREATED:20210427T024141Z
LAST-MODIFIED:20210427T024141Z
UID:11950-1626001200-1626012000@www.eddiscsports.org
SUMMARY:Random Doubles Weekly Play
DESCRIPTION:11:00 a.m. check-in; 11:30 a.m. tee-off\nPayout each week \n$10 Entry fee per event \nWeekly payouts for 1st/2nd \nCTP cash prize \nAce Pot
URL:https://www.eddiscsports.org/event/random-doubles-weekly-play-16/
END:VEVENT
BEGIN:VEVENT
DTSTART;TZID=America/Los_Angeles:20210711T081500
DTEND;TZID=America/Los_Angeles:20210711T110000
DTSTAMP:20260423T003624
CREATED:20210427T024538Z
LAST-MODIFIED:20210427T024538Z
UID:11960-1625991300-1626001200@www.eddiscsports.org
SUMMARY:PDGA Saturday Singles League – Summer 10 of 10
DESCRIPTION:8:15 a.m. check-in at pro shop; 8:30 a.m. tee-off\nPayout each week \nBest 6 of 10 for an overall payout \n$10 Entry fee per event \n$3 Goes to series payout \n$4 Day of payout \n$2 PDGA/Club fees \n$1 Ace Pot
URL:https://www.eddiscsports.org/event/pdga-saturday-singles-league-summer-10-of-10/
END:VEVENT
BEGIN:VEVENT
DTSTART;TZID=America/Los_Angeles:20210704T110000
DTEND;TZID=America/Los_Angeles:20210704T140000
DTSTAMP:20260423T003624
CREATED:20210427T024121Z
LAST-MODIFIED:20210427T024121Z
UID:11949-1625396400-1625407200@www.eddiscsports.org
SUMMARY:Random Doubles Weekly Play
DESCRIPTION:11:00 a.m. check-in; 11:30 a.m. tee-off\nPayout each week \n$10 Entry fee per event \nWeekly payouts for 1st/2nd \nCTP cash prize \nAce Pot
URL:https://www.eddiscsports.org/event/random-doubles-weekly-play-15/
END:VEVENT
BEGIN:VEVENT
DTSTART;TZID=America/Los_Angeles:20210704T081500
DTEND;TZID=America/Los_Angeles:20210704T110000
DTSTAMP:20260423T003624
CREATED:20210427T024519Z
LAST-MODIFIED:20210427T024519Z
UID:11959-1625386500-1625396400@www.eddiscsports.org
SUMMARY:PDGA Saturday Singles League – Summer 9 of 10
DESCRIPTION:8:15 a.m. check-in at pro shop; 8:30 a.m. tee-off\nPayout each week \nBest 6 of 10 for an overall payout \n$10 Entry fee per event \n$3 Goes to series payout \n$4 Day of payout \n$2 PDGA/Club fees \n$1 Ace Pot
URL:https://www.eddiscsports.org/event/pdga-saturday-singles-league-summer-9-of-10/
END:VEVENT
BEGIN:VEVENT
DTSTART;TZID=America/Los_Angeles:20210627T110000
DTEND;TZID=America/Los_Angeles:20210627T140000
DTSTAMP:20260423T003624
CREATED:20210427T024103Z
LAST-MODIFIED:20210427T024103Z
UID:11948-1624791600-1624802400@www.eddiscsports.org
SUMMARY:Random Doubles Weekly Play
DESCRIPTION:11:00 a.m. check-in; 11:30 a.m. tee-off\nPayout each week \n$10 Entry fee per event \nWeekly payouts for 1st/2nd \nCTP cash prize \nAce Pot
URL:https://www.eddiscsports.org/event/random-doubles-weekly-play-14/
END:VEVENT
BEGIN:VEVENT
DTSTART;TZID=America/Los_Angeles:20210627T081500
DTEND;TZID=America/Los_Angeles:20210627T110000
DTSTAMP:20260423T003624
CREATED:20210427T024501Z
LAST-MODIFIED:20210427T024501Z
UID:11958-1624781700-1624791600@www.eddiscsports.org
SUMMARY:PDGA Saturday Singles League – Summer 8 of 10
DESCRIPTION:8:15 a.m. check-in at pro shop; 8:30 a.m. tee-off\nPayout each week \nBest 6 of 10 for an overall payout \n$10 Entry fee per event \n$3 Goes to series payout \n$4 Day of payout \n$2 PDGA/Club fees \n$1 Ace Pot
URL:https://www.eddiscsports.org/event/pdga-saturday-singles-league-summer-8-of-10/
END:VEVENT
BEGIN:VEVENT
DTSTART;TZID=America/Los_Angeles:20210620T110000
DTEND;TZID=America/Los_Angeles:20210620T140000
DTSTAMP:20260423T003624
CREATED:20210427T024045Z
LAST-MODIFIED:20210427T024045Z
UID:11947-1624186800-1624197600@www.eddiscsports.org
SUMMARY:Random Doubles Weekly Play
DESCRIPTION:11:00 a.m. check-in; 11:30 a.m. tee-off\nPayout each week \n$10 Entry fee per event \nWeekly payouts for 1st/2nd \nCTP cash prize \nAce Pot
URL:https://www.eddiscsports.org/event/random-doubles-weekly-play-13/
END:VEVENT
BEGIN:VEVENT
DTSTART;TZID=America/Los_Angeles:20210620T081500
DTEND;TZID=America/Los_Angeles:20210620T110000
DTSTAMP:20260423T003624
CREATED:20210427T024443Z
LAST-MODIFIED:20210427T024443Z
UID:11957-1624176900-1624186800@www.eddiscsports.org
SUMMARY:PDGA Saturday Singles League – Summer 7 of 10
DESCRIPTION:8:15 a.m. check-in at pro shop; 8:30 a.m. tee-off\nPayout each week \nBest 6 of 10 for an overall payout \n$10 Entry fee per event \n$3 Goes to series payout \n$4 Day of payout \n$2 PDGA/Club fees \n$1 Ace Pot
URL:https://www.eddiscsports.org/event/pdga-saturday-singles-league-summer-7-of-10/
END:VEVENT
BEGIN:VEVENT
DTSTART;TZID=America/Los_Angeles:20210613T110000
DTEND;TZID=America/Los_Angeles:20210613T140000
DTSTAMP:20260423T003624
CREATED:20210427T024027Z
LAST-MODIFIED:20210427T024027Z
UID:11946-1623582000-1623592800@www.eddiscsports.org
SUMMARY:Random Doubles Weekly Play
DESCRIPTION:11:00 a.m. check-in; 11:30 a.m. tee-off\nPayout each week \n$10 Entry fee per event \nWeekly payouts for 1st/2nd \nCTP cash prize \nAce Pot
URL:https://www.eddiscsports.org/event/random-doubles-weekly-play-12/
LOCATION:Cameron Park Lake DGC\, 2989 Cambridge Road\, Cameron Park\, CA\, 95682\, United States
END:VEVENT
BEGIN:VEVENT
DTSTART;TZID=America/Los_Angeles:20210613T081500
DTEND;TZID=America/Los_Angeles:20210613T110000
DTSTAMP:20260423T003624
CREATED:20210427T024426Z
LAST-MODIFIED:20210427T024426Z
UID:11956-1623572100-1623582000@www.eddiscsports.org
SUMMARY:PDGA Saturday Singles League – Summer 6 of 10
DESCRIPTION:8:15 a.m. check-in at pro shop; 8:30 a.m. tee-off\nPayout each week \nBest 6 of 10 for an overall payout \n$10 Entry fee per event \n$3 Goes to series payout \n$4 Day of payout \n$2 PDGA/Club fees \n$1 Ace Pot
URL:https://www.eddiscsports.org/event/pdga-saturday-singles-league-summer-6-of-10/
END:VEVENT
BEGIN:VEVENT
DTSTART;TZID=America/Los_Angeles:20210606T110000
DTEND;TZID=America/Los_Angeles:20210606T140000
DTSTAMP:20260423T003624
CREATED:20210427T024003Z
LAST-MODIFIED:20210427T024003Z
UID:11945-1622977200-1622988000@www.eddiscsports.org
SUMMARY:Random Doubles Weekly Play
DESCRIPTION:11:00 a.m. check-in; 11:30 a.m. tee-off\nPayout each week \n$10 Entry fee per event \nWeekly payouts for 1st/2nd \nCTP cash prize \nAce Pot
URL:https://www.eddiscsports.org/event/random-doubles-weekly-play-11/
LOCATION:Cameron Park Lake DGC\, 2989 Cambridge Road\, Cameron Park\, CA\, 95682\, United States
END:VEVENT
BEGIN:VEVENT
DTSTART;TZID=America/Los_Angeles:20210606T081500
DTEND;TZID=America/Los_Angeles:20210606T110000
DTSTAMP:20260423T003624
CREATED:20210427T024338Z
LAST-MODIFIED:20210427T024338Z
UID:11955-1622967300-1622977200@www.eddiscsports.org
SUMMARY:PDGA Saturday Singles League – Summer 5 of 10
DESCRIPTION:8:15 a.m. check-in at pro shop; 8:30 a.m. tee-off\nPayout each week \nBest 6 of 10 for an overall payout \n$10 Entry fee per event \n$3 Goes to series payout \n$4 Day of payout \n$2 PDGA/Club fees \n$1 Ace Pot
URL:https://www.eddiscsports.org/event/pdga-saturday-singles-league-summer-5-of-10/
END:VEVENT
BEGIN:VEVENT
DTSTART;TZID=America/Los_Angeles:20210530T110000
DTEND;TZID=America/Los_Angeles:20210530T140000
DTSTAMP:20260423T003624
CREATED:20210427T023943Z
LAST-MODIFIED:20210427T023943Z
UID:11944-1622372400-1622383200@www.eddiscsports.org
SUMMARY:Random Doubles Weekly Play
DESCRIPTION:11:00 a.m. check-in; 11:30 a.m. tee-off\nPayout each week \n$10 Entry fee per event \nWeekly payouts for 1st/2nd \nCTP cash prize \nAce Pot
URL:https://www.eddiscsports.org/event/random-doubles-weekly-play-10/
LOCATION:Cameron Park Lake DGC\, 2989 Cambridge Road\, Cameron Park\, CA\, 95682\, United States
END:VEVENT
BEGIN:VEVENT
DTSTART;TZID=America/Los_Angeles:20210530T081500
DTEND;TZID=America/Los_Angeles:20210530T110000
DTSTAMP:20260423T003624
CREATED:20210427T024319Z
LAST-MODIFIED:20210427T024319Z
UID:11954-1622362500-1622372400@www.eddiscsports.org
SUMMARY:PDGA Saturday Singles League – Summer 4 of 10
DESCRIPTION:8:15 a.m. check-in at pro shop; 8:30 a.m. tee-off\nPayout each week \nBest 6 of 10 for an overall payout \n$10 Entry fee per event \n$3 Goes to series payout \n$4 Day of payout \n$2 PDGA/Club fees \n$1 Ace Pot
URL:https://www.eddiscsports.org/event/pdga-saturday-singles-league-summer-4-of-10/
END:VEVENT
BEGIN:VEVENT
DTSTART;TZID=America/Los_Angeles:20210523T110000
DTEND;TZID=America/Los_Angeles:20210523T140000
DTSTAMP:20260423T003624
CREATED:20210427T023925Z
LAST-MODIFIED:20210427T023925Z
UID:11943-1621767600-1621778400@www.eddiscsports.org
SUMMARY:Random Doubles Weekly Play
DESCRIPTION:11:00 a.m. check-in; 11:30 a.m. tee-off\nPayout each week \n$10 Entry fee per event \nWeekly payouts for 1st/2nd \nCTP cash prize \nAce Pot
URL:https://www.eddiscsports.org/event/random-doubles-weekly-play-9/
LOCATION:Cameron Park Lake DGC\, 2989 Cambridge Road\, Cameron Park\, CA\, 95682\, United States
END:VEVENT
BEGIN:VEVENT
DTSTART;TZID=America/Los_Angeles:20210523T081500
DTEND;TZID=America/Los_Angeles:20210523T110000
DTSTAMP:20260423T003624
CREATED:20210427T024301Z
LAST-MODIFIED:20210427T024301Z
UID:11953-1621757700-1621767600@www.eddiscsports.org
SUMMARY:PDGA Saturday Singles League – Summer 3 of 10
DESCRIPTION:8:15 a.m. check-in at pro shop; 8:30 a.m. tee-off\nPayout each week \nBest 6 of 10 for an overall payout \n$10 Entry fee per event \n$3 Goes to series payout \n$4 Day of payout \n$2 PDGA/Club fees \n$1 Ace Pot
URL:https://www.eddiscsports.org/event/pdga-saturday-singles-league-summer-3-of-10/
END:VEVENT
BEGIN:VEVENT
DTSTART;TZID=America/Los_Angeles:20210516T110000
DTEND;TZID=America/Los_Angeles:20210516T140000
DTSTAMP:20260423T003624
CREATED:20210427T023907Z
LAST-MODIFIED:20210427T023907Z
UID:11942-1621162800-1621173600@www.eddiscsports.org
SUMMARY:Random Doubles Weekly Play
DESCRIPTION:11:00 a.m. check-in; 11:30 a.m. tee-off\nPayout each week \n$10 Entry fee per event \nWeekly payouts for 1st/2nd \nCTP cash prize \nAce Pot
URL:https://www.eddiscsports.org/event/random-doubles-weekly-play-8/
LOCATION:Cameron Park Lake DGC\, 2989 Cambridge Road\, Cameron Park\, CA\, 95682\, United States
END:VEVENT
BEGIN:VEVENT
DTSTART;TZID=America/Los_Angeles:20210516T081500
DTEND;TZID=America/Los_Angeles:20210516T110000
DTSTAMP:20260423T003624
CREATED:20210427T024243Z
LAST-MODIFIED:20210427T024243Z
UID:11952-1621152900-1621162800@www.eddiscsports.org
SUMMARY:PDGA Saturday Singles League – Summer 2 of 10
DESCRIPTION:8:15 a.m. check-in at pro shop; 8:30 a.m. tee-off\nPayout each week \nBest 6 of 10 for an overall payout \n$10 Entry fee per event \n$3 Goes to series payout \n$4 Day of payout \n$2 PDGA/Club fees \n$1 Ace Pot
URL:https://www.eddiscsports.org/event/pdga-saturday-singles-league-summer-2-of-10/
END:VEVENT
BEGIN:VEVENT
DTSTART;TZID=America/Los_Angeles:20210509T110000
DTEND;TZID=America/Los_Angeles:20210509T140000
DTSTAMP:20260423T003624
CREATED:20210427T023850Z
LAST-MODIFIED:20210427T023850Z
UID:11941-1620558000-1620568800@www.eddiscsports.org
SUMMARY:Random Doubles Weekly Play
DESCRIPTION:11:00 a.m. check-in; 11:30 a.m. tee-off\nPayout each week \n$10 Entry fee per event \nWeekly payouts for 1st/2nd \nCTP cash prize \nAce Pot
URL:https://www.eddiscsports.org/event/random-doubles-weekly-play-7/
LOCATION:Cameron Park Lake DGC\, 2989 Cambridge Road\, Cameron Park\, CA\, 95682\, United States
END:VEVENT
BEGIN:VEVENT
DTSTART;TZID=America/Los_Angeles:20210509T081500
DTEND;TZID=America/Los_Angeles:20210509T110000
DTSTAMP:20260423T003624
CREATED:20210427T024226Z
LAST-MODIFIED:20210427T024226Z
UID:11951-1620548100-1620558000@www.eddiscsports.org
SUMMARY:PDGA Saturday Singles League – Summer 1 of 10
DESCRIPTION:8:15 a.m. check-in at pro shop; 8:30 a.m. tee-off\nPayout each week \nBest 6 of 10 for an overall payout \n$10 Entry fee per event \n$3 Goes to series payout \n$4 Day of payout \n$2 PDGA/Club fees \n$1 Ace Pot
URL:https://www.eddiscsports.org/event/pdga-saturday-singles-league-summer-1-of-10/
END:VEVENT
BEGIN:VEVENT
DTSTART;TZID=America/Los_Angeles:20210417T110000
DTEND;TZID=America/Los_Angeles:20210417T110000
DTSTAMP:20260423T003624
CREATED:20210309T035929Z
LAST-MODIFIED:20210309T040827Z
UID:11922-1618657200-1618657200@www.eddiscsports.org
SUMMARY:Random Doubles Weekly Play
DESCRIPTION:11:00 a.m. check-in; 11:30 a.m. tee-off\nPayout each week \n$10 Entry fee per event \nWeekly payouts for 1st/2nd \nCTP cash prize \nAce Pot
URL:https://www.eddiscsports.org/event/random-doubles-weekly-play-6/
LOCATION:Cameron Park Lake DGC\, 2989 Cambridge Road\, Cameron Park\, CA\, 95682\, United States
CATEGORIES:El Dorado Disc Sports Event
END:VEVENT
BEGIN:VEVENT
DTSTART;TZID=America/Los_Angeles:20210417T080000
DTEND;TZID=America/Los_Angeles:20210417T110000
DTSTAMP:20260423T003624
CREATED:20210309T035049Z
LAST-MODIFIED:20210309T035049Z
UID:11914-1618646400-1618657200@www.eddiscsports.org
SUMMARY:PDGA Saturday Singles League – Spring 6 of 6
DESCRIPTION:8:00 a.m. check-in; 8:30 a.m. tee-off\n6 Week Series \nPayout each week \nBest 4 of 6 for an overall payout \n$10 Entry fee per event \n$3 Goes to series payout \n$4 Day of payout \n$2 PDGA/Club fees \n$1 Ace Pot
URL:https://www.eddiscsports.org/event/pdga-saturday-singles-league-spring-6-of-6/
LOCATION:Cameron Park Lake DGC\, 2989 Cambridge Road\, Cameron Park\, CA\, 95682\, United States
END:VEVENT
BEGIN:VEVENT
DTSTART;TZID=America/Los_Angeles:20210410T110000
DTEND;TZID=America/Los_Angeles:20210410T110000
DTSTAMP:20260423T003624
CREATED:20210309T035855Z
LAST-MODIFIED:20210309T040842Z
UID:11921-1618052400-1618052400@www.eddiscsports.org
SUMMARY:Random Doubles Weekly Play
DESCRIPTION:11:00 a.m. check-in; 11:30 a.m. tee-off\nPayout each week \n$10 Entry fee per event \nWeekly payouts for 1st/2nd \nCTP cash prize \nAce Pot
URL:https://www.eddiscsports.org/event/random-doubles-weekly-play-5/
LOCATION:Cameron Park Lake DGC\, 2989 Cambridge Road\, Cameron Park\, CA\, 95682\, United States
CATEGORIES:El Dorado Disc Sports Event
END:VEVENT
BEGIN:VEVENT
DTSTART;TZID=America/Los_Angeles:20210410T080000
DTEND;TZID=America/Los_Angeles:20210410T110000
DTSTAMP:20260423T003624
CREATED:20210309T035031Z
LAST-MODIFIED:20210309T035031Z
UID:11913-1618041600-1618052400@www.eddiscsports.org
SUMMARY:PDGA Saturday Singles League – Spring 5 of 6
DESCRIPTION:8:00 a.m. check-in; 8:30 a.m. tee-off\n6 Week Series \nPayout each week \nBest 4 of 6 for an overall payout \n$10 Entry fee per event \n$3 Goes to series payout \n$4 Day of payout \n$2 PDGA/Club fees \n$1 Ace Pot
URL:https://www.eddiscsports.org/event/pdga-saturday-singles-league-spring-5-of-6/
LOCATION:Cameron Park Lake DGC\, 2989 Cambridge Road\, Cameron Park\, CA\, 95682\, United States
END:VEVENT
BEGIN:VEVENT
DTSTART;TZID=America/Los_Angeles:20210403T110000
DTEND;TZID=America/Los_Angeles:20210403T110000
DTSTAMP:20260423T003624
CREATED:20210309T035838Z
LAST-MODIFIED:20210309T040857Z
UID:11920-1617447600-1617447600@www.eddiscsports.org
SUMMARY:Random Doubles Weekly Play
DESCRIPTION:11:00 a.m. check-in; 11:30 a.m. tee-off\nPayout each week \n$10 Entry fee per event \nWeekly payouts for 1st/2nd \nCTP cash prize \nAce Pot
URL:https://www.eddiscsports.org/event/random-doubles-weekly-play-4/
LOCATION:Cameron Park Lake DGC\, 2989 Cambridge Road\, Cameron Park\, CA\, 95682\, United States
CATEGORIES:El Dorado Disc Sports Event
END:VEVENT
BEGIN:VEVENT
DTSTART;TZID=America/Los_Angeles:20210403T080000
DTEND;TZID=America/Los_Angeles:20210403T110000
DTSTAMP:20260423T003624
CREATED:20210309T035015Z
LAST-MODIFIED:20210326T184056Z
UID:11912-1617436800-1617447600@www.eddiscsports.org
SUMMARY:PDGA Saturday Singles League – Spring 4 of 6
DESCRIPTION:8:00 a.m. check-in; 8:30 a.m. tee-off\n6 Week Series \nPayout each week \nBest 4 of 6 for an overall payout \n$10 Entry fee per event \n$3 Goes to series payout \n$4 Day of payout \n$2 PDGA/Club fees \n$1 Ace Pot
URL:https://www.eddiscsports.org/event/pdga-saturday-singles-league-spring-4-of-6/
LOCATION:Cameron Park Lake DGC\, 2989 Cambridge Road\, Cameron Park\, CA\, 95682\, United States
END:VEVENT
BEGIN:VEVENT
DTSTART;TZID=America/Los_Angeles:20210327T110000
DTEND;TZID=America/Los_Angeles:20210327T110000
DTSTAMP:20260423T003624
CREATED:20210309T035821Z
LAST-MODIFIED:20210309T040914Z
UID:11919-1616842800-1616842800@www.eddiscsports.org
SUMMARY:Random Doubles Weekly Play
DESCRIPTION:11:00 a.m. check-in; 11:30 a.m. tee-off\nPayout each week \n$10 Entry fee per event \nWeekly payouts for 1st/2nd \nCTP cash prize \nAce Pot
URL:https://www.eddiscsports.org/event/random-doubles-weekly-play-3/
LOCATION:Cameron Park Lake DGC\, 2989 Cambridge Road\, Cameron Park\, CA\, 95682\, United States
CATEGORIES:El Dorado Disc Sports Event
END:VEVENT
BEGIN:VEVENT
DTSTART;TZID=America/Los_Angeles:20210327T080000
DTEND;TZID=America/Los_Angeles:20210327T110000
DTSTAMP:20260423T003624
CREATED:20210309T035000Z
LAST-MODIFIED:20210309T035000Z
UID:11911-1616832000-1616842800@www.eddiscsports.org
SUMMARY:PDGA Saturday Singles League – Spring 3 of 6
DESCRIPTION:8:00 a.m. check-in; 8:30 a.m. tee-off\n6 Week Series \nPayout each week \nBest 4 of 6 for an overall payout \n$10 Entry fee per event \n$3 Goes to series payout \n$4 Day of payout \n$2 PDGA/Club fees \n$1 Ace Pot
URL:https://www.eddiscsports.org/event/pdga-saturday-singles-league-spring-3-of-6/
LOCATION:Cameron Park Lake DGC\, 2989 Cambridge Road\, Cameron Park\, CA\, 95682\, United States
END:VEVENT
BEGIN:VEVENT
DTSTART;TZID=America/Los_Angeles:20210320T110000
DTEND;TZID=America/Los_Angeles:20210320T110000
DTSTAMP:20260423T003624
CREATED:20210309T035803Z
LAST-MODIFIED:20210309T040930Z
UID:11918-1616238000-1616238000@www.eddiscsports.org
SUMMARY:Random Doubles Weekly Play
DESCRIPTION:11:00 a.m. check-in; 11:30 a.m. tee-off\nPayout each week \n$10 Entry fee per event \nWeekly payouts for 1st/2nd \nCTP cash prize \nAce Pot
URL:https://www.eddiscsports.org/event/random-doubles-weekly-play-2/
LOCATION:Cameron Park Lake DGC\, 2989 Cambridge Road\, Cameron Park\, CA\, 95682\, United States
CATEGORIES:El Dorado Disc Sports Event
END:VEVENT
BEGIN:VEVENT
DTSTART;TZID=America/Los_Angeles:20210320T080000
DTEND;TZID=America/Los_Angeles:20210320T110000
DTSTAMP:20260423T003624
CREATED:20210309T033502Z
LAST-MODIFIED:20210309T033502Z
UID:11904-1616227200-1616238000@www.eddiscsports.org
SUMMARY:PDGA Saturday Singles League - Spring 2 of 6
DESCRIPTION:8:00 a.m. check-in; 8:30 a.m. tee-off \n6 Week Series \nPayout each week \nBest 4 of 6 for an overall payout \n$10 Entry fee per event \n$3 Goes to series payout \n$4 Day of payout \n$2 PDGA/Club fees \n$1 Ace Pot
URL:https://www.eddiscsports.org/event/pdga-saturday-singles-league-spring-2-of-6/
END:VEVENT
END:VCALENDAR